BEGIN:VCALENDAR
VERSION:2.0
PRODID:-//MacDonagh Junction - ECPv6.15.20//NONSGML v1.0//EN
CALSCALE:GREGORIAN
METHOD:PUBLISH
X-WR-CALNAME:MacDonagh Junction
X-ORIGINAL-URL:https://macdonaghjunction.com
X-WR-CALDESC:Events for MacDonagh Junction
REFRESH-INTERVAL;VALUE=DURATION:PT1H
X-Robots-Tag:noindex
X-PUBLISHED-TTL:PT1H
BEGIN:VTIMEZONE
TZID:UTC
BEGIN:STANDARD
TZOFFSETFROM:+0000
TZOFFSETTO:+0000
TZNAME:UTC
DTSTART:20250101T000000
END:STANDARD
END:VTIMEZONE
BEGIN:VEVENT
DTSTART;VALUE=DATE:20260317
DTEND;VALUE=DATE:20260318
DTSTAMP:20260421T235029
CREATED:20260220T121143Z
LAST-MODIFIED:20260220T121143Z
UID:23699-1773705600-1773791999@macdonaghjunction.com
SUMMARY:St Patricks Day
DESCRIPTION:MacDonagh Junction is thrilled to be a proud sponsor of the Kilkenny St. Patrick’s Day Parade! 🍀 This year\, we’re bringing extra fun\, music\, and surprises for the whole family to enjoy. \nJoin us just outside Dunnes Stores\, where Alize’s School of Singing will be performing live. Expect fantastic tunes that capture the festive spirit of St. Patrick’s Day\, from traditional Irish melodies to contemporary favourites — there’s something for everyone to enjoy! \nFor the little ones (and the young at heart)\, we’ll have two free face painters from 12 PM to 3 PM\, ready to transform faces into fun and colourful designs. And keep your eyes peeled for our mischievous leprechauns\, Luck and Larry\, roaming the junction to spread joy\, pose for photos\, and maybe even share a little “leprechaun luck” with visitors! \nDon’t forget to tag us in your photos and posts — we love seeing your creative\, fun\, and wild St. Patrick’s Day moments. Whether you’re enjoying the music\, getting a face paint masterpiece\, or spotting Luck and Larry\, there’s something for everyone at MacDonagh Junction this St. Patrick’s Day! \nStay tuned for more updates and make sure to plan your visit early — we can’t wait to celebrate this special day with you! 🍀
URL:https://macdonaghjunction.com/event/st-patricks-day/
LOCATION:MacDonagh Junction Shopping Centre\, MacDonagh Junction Shopping Centre\, Hebron Road\, Kilkenny\, R95 W8RH\, Ireland
CATEGORIES:St Patrick's Day
ATTACH;FMTTYPE=image/png:https://macdonaghjunction.com/wp-content/uploads/2026/02/2026-St-Paddys-day-Instagram-Post.png
END:VEVENT
BEGIN:VEVENT
DTSTART;VALUE=DATE:20260321
DTEND;VALUE=DATE:20260322
DTSTAMP:20260421T235029
CREATED:20260220T150742Z
LAST-MODIFIED:20260220T150742Z
UID:23743-1774051200-1774137599@macdonaghjunction.com
SUMMARY:World Down Syndrome Day
DESCRIPTION:Mark World Down Syndrome Day at MacDonagh Junction Shopping Centre This March\nWorld Down Syndrome Day is a global day of awareness\, inclusion\, and celebration\, recognising the incredible contributions and individuality of people with Down syndrome. This March\, MacDonagh Junction Shopping Centre in Kilkenny offers the perfect setting to come together as a community\, celebrate diversity\, and promote a message of acceptance and support. \nCelebrating Inclusion and Community\nWorld Down Syndrome Day is all about creating a world where everyone feels valued and included. A visit to MacDonagh Junction provides an opportunity to mark the occasion in a positive and welcoming environment\, where families\, friends\, and community groups can gather and celebrate together. \nThe centre’s open\, accessible layout and friendly atmosphere make it an ideal place to meet\, connect\, and show solidarity — whether you’re spending the day shopping\, dining\, or simply enjoying time together. \nWear Your Brightest Socks and Show Your Support\nA well-loved tradition of World Down Syndrome Day is wearing colourful or mismatched socks to spark conversations and raise awareness. It’s a simple but powerful gesture that can turn an ordinary outing into a meaningful show of support. \nEncourage friends\, family\, and colleagues to join in\, and take a stroll through the centre proudly showing your stripes — helping to spread smiles and awareness throughout the day. \nThoughtful Shopping with a Purpose\nMany visitors choose to mark the day by supporting inclusive brands or selecting thoughtful gifts that promote kindness and awareness. MacDonagh Junction’s wide range of retailers makes it easy to find meaningful items\, from uplifting cards and small tokens to comfortable clothing and sensory-friendly gifts suited to all ages. \nShopping with purpose can be a small but impactful way to celebrate inclusion and champion diversity. \nTake Time to Connect Over Food & Coffee\nShared moments are at the heart of World Down Syndrome Day. The centre’s cafés and restaurants offer welcoming spaces to pause\, reflect\, and enjoy conversation with loved ones. Whether it’s a relaxed coffee break or a family meal\, these moments of connection reinforce the day’s message of understanding and togetherness. \nPromoting Awareness in a Positive Way\nAs a busy community hub\, MacDonagh Junction is a natural place to help spread awareness and spark conversations about inclusion and equality. Even simple acts — wearing bright colours\, sharing smiles\, or talking about the importance of acceptance — help create a supportive atmosphere that reflects the spirit of the day. \nVisitors can use their time at the centre to educate younger family members\, engage in meaningful discussions\, and celebrate the achievements and individuality of people with Down syndrome in a joyful and respectful way. \nA Day to Celebrate Differences\nWorld Down Syndrome Day is ultimately about recognising that our differences make our communities stronger and more vibrant. By spending the day together at MacDonagh Junction\, families and friends can celebrate diversity in a relaxed\, inclusive setting while creating positive\, lasting memories. \nThis March\, join in marking World Down Syndrome Day at MacDonagh Junction Shopping Centre — wearing your brightest socks\, sharing kind moments\, and celebrating a world where everyone belongs.
URL:https://macdonaghjunction.com/event/world-down-syndrome-day/
LOCATION:MacDonagh Junction Shopping Centre\, MacDonagh Junction Shopping Centre\, Hebron Road\, Kilkenny\, R95 W8RH\, Ireland
CATEGORIES:Mall Promotions
ATTACH;FMTTYPE=image/png:https://macdonaghjunction.com/wp-content/uploads/2026/02/Tosca-Minimalist-World-Down-Syndrome-Day-Instagram-Post.png
END:VEVENT
BEGIN:VEVENT
DTSTART;VALUE=DATE:20260404
DTEND;VALUE=DATE:20260405
DTSTAMP:20260421T235029
CREATED:20260220T122640Z
LAST-MODIFIED:20260220T122755Z
UID:23705-1775260800-1775347199@macdonaghjunction.com
SUMMARY:Easter Saturday
DESCRIPTION:Hop on over to MacDonagh Junction Shopping Centre this Easter Sunday for an unforgettable family day out! Join us for a fantastic Easter egg hunt\, where our mischievous Easter Bunny will be hiding treats and handing out goodies to children of all ages. \nBut that’s not all – there will be plenty of arts and crafts activities to spark your child’s creativity\, including decorating Easter eggs\, making festive cards\, and other fun\, hands-on projects. This event is perfect for families looking to enjoy a safe\, exciting\, and memorable way to celebrate Easter together. \nBring your cameras\, your baskets\, and your festive spirit – there’s fun to be had around every corner! Whether you’re hunting for eggs\, meeting the Easter Bunny\, or getting crafty\, there’s something for everyone at MacDonagh Junction Shopping Centre this Easter Sunday. \nCome join us and make this Easter one to remember!
URL:https://macdonaghjunction.com/event/easter-saturday/
LOCATION:MacDonagh Junction Shopping Centre\, MacDonagh Junction Shopping Centre\, Hebron Road\, Kilkenny\, R95 W8RH\, Ireland
CATEGORIES:Easter
ATTACH;FMTTYPE=image/png:https://macdonaghjunction.com/wp-content/uploads/2026/02/Blue-Gradient-Modern-Happy-Easter-Poster-Instagram-Post.png
END:VEVENT
BEGIN:VEVENT
DTSTART;VALUE=DATE:20260405
DTEND;VALUE=DATE:20260406
DTSTAMP:20260421T235029
CREATED:20260220T123008Z
LAST-MODIFIED:20260220T123008Z
UID:23708-1775347200-1775433599@macdonaghjunction.com
SUMMARY:Closed for Easter Sunday
DESCRIPTION:Notice: While we value your custom\, the centre will be closed today to allow all staff to celebrate the Easter holiday with family and friends. We apologise for any inconvenience caused.
URL:https://macdonaghjunction.com/event/closed-for-easter-sunday/
CATEGORIES:Easter
ATTACH;FMTTYPE=image/png:https://macdonaghjunction.com/wp-content/uploads/2026/02/Closed-Post.png
END:VEVENT
BEGIN:VEVENT
DTSTART;VALUE=DATE:20260406
DTEND;VALUE=DATE:20260407
DTSTAMP:20260421T235029
CREATED:20260220T123635Z
LAST-MODIFIED:20260220T123635Z
UID:23711-1775433600-1775519999@macdonaghjunction.com
SUMMARY:Easter Bank Holiday
DESCRIPTION:Notice to Customers:We would like to inform all customers that today is a bank holiday. As a result\, Stores will be operating on Sunday hours\, which means the store will open later than usual.
URL:https://macdonaghjunction.com/event/easter-bank-holiday/
LOCATION:MacDonagh Junction Shopping Centre\, MacDonagh Junction Shopping Centre\, Hebron Road\, Kilkenny\, R95 W8RH\, Ireland
CATEGORIES:Bank Holiday,Easter
ATTACH;FMTTYPE=image/png:https://macdonaghjunction.com/wp-content/uploads/2026/02/Bank-Holiday-Opening-Hours-FB-Post-1200-×-1200-px-Facebook-Post.png
END:VEVENT
BEGIN:VEVENT
DTSTART;VALUE=DATE:20260504
DTEND;VALUE=DATE:20260505
DTSTAMP:20260421T235029
CREATED:20260220T124850Z
LAST-MODIFIED:20260220T124948Z
UID:23714-1777852800-1777939199@macdonaghjunction.com
SUMMARY:May the 4th Be With You!
DESCRIPTION:🚀 Celebrate Star Wars Day Like a True Fan! 🚀 \nDarth Vader and his stormtroopers are invading MacDonagh Junction Shopping Centre! \n🤖✨ Strike a pose with the Dark Side and capture epic memories at our exclusive photo ops. \n📸 Post your pic\, tag us\, and you could win the ultimate Star Wars giveaway: a LEGO Star Wars set and a treasure trove of galactic goodies worth over €250! \nSo… do you have what it takes to join the Dark Side? 🌌
URL:https://macdonaghjunction.com/event/may-the-4th-be-with-you/
CATEGORIES:Bank Holiday
ATTACH;FMTTYPE=image/png:https://macdonaghjunction.com/wp-content/uploads/2026/02/Star-Wars-Stormtrooper-Black-Red-Poster-Instagram-Post.png
END:VEVENT
BEGIN:VEVENT
DTSTART;VALUE=DATE:20260504
DTEND;VALUE=DATE:20260505
DTSTAMP:20260421T235029
CREATED:20260220T125234Z
LAST-MODIFIED:20260220T125234Z
UID:23717-1777852800-1777939199@macdonaghjunction.com
SUMMARY:Bank Holiday Monday
DESCRIPTION:Notice to Customers:We would like to inform all customers that today is a bank holiday. As a result\, Stres will be operating on Sunday hours\, which means the store will open later than usual.
URL:https://macdonaghjunction.com/event/bank-holiday-monday/
LOCATION:MacDonagh Junction Shopping Centre\, MacDonagh Junction Shopping Centre\, Hebron Road\, Kilkenny\, R95 W8RH\, Ireland
CATEGORIES:Bank Holiday
ATTACH;FMTTYPE=image/png:https://macdonaghjunction.com/wp-content/uploads/2026/02/Copy-of-Bank-Holiday-opening-hours.png
ORGANIZER;CN="MacDonagh Junction Shopping Centre":MAILTO:info@macdonaghjunction.com
END:VEVENT
BEGIN:VEVENT
DTSTART;VALUE=DATE:20260601
DTEND;VALUE=DATE:20260602
DTSTAMP:20260421T235029
CREATED:20260220T125529Z
LAST-MODIFIED:20260220T125651Z
UID:23720-1780272000-1780358399@macdonaghjunction.com
SUMMARY:June Bank Holiday
DESCRIPTION:Notice to Customers:We would like to inform all customers that today is a bank holiday. As a result\, Stres will be operating on Sunday hours\, which means the store will open later than usual.
URL:https://macdonaghjunction.com/event/june-bank-holidy/
LOCATION:MacDonagh Junction Shopping Centre\, MacDonagh Junction Shopping Centre\, Hebron Road\, Kilkenny\, R95 W8RH\, Ireland
CATEGORIES:Bank Holiday
ATTACH;FMTTYPE=image/png:https://macdonaghjunction.com/wp-content/uploads/2026/02/Copy-of-Bank-Holiday-opening-hours-1.png
END:VEVENT
BEGIN:VEVENT
DTSTART;VALUE=DATE:20260621
DTEND;VALUE=DATE:20260622
DTSTAMP:20260421T235029
CREATED:20260220T144934Z
LAST-MODIFIED:20260220T144934Z
UID:23737-1782000000-1782086399@macdonaghjunction.com
SUMMARY:Father's Day
DESCRIPTION:Celebrate Father’s Day at MacDonagh Junction Shopping Centre This June\nFather’s Day is the perfect opportunity to recognise the dads\, grandads\, and father figures who do so much all year round. This June\, make the celebration easy\, memorable\, and enjoyable with a visit to MacDonagh Junction Shopping Centre in Kilkenny — a lively destination where great gifts\, good food\, and quality family time come together in one place. \nFind the Perfect Gift for Dad\nWhether your dad is into fashion\, technology\, sports\, or simply enjoys the finer things in life\, MacDonagh Junction offers a fantastic variety of retailers to suit every personality and interest. From smart wardrobe updates and practical accessories to gadgets\, grooming essentials\, and hobby-inspired finds\, there’s no shortage of thoughtful gift options to make him feel appreciated. \nThe relaxed atmosphere makes browsing an experience in itself — giving you the chance to explore\, compare\, and discover something that truly reflects his style and interests. \nTake a Break and Treat Him to a Meal\nNo Father’s Day outing is complete without great food. The centre’s range of cafés and restaurants makes it easy to sit down together and enjoy a well-earned meal. Whether it’s a hearty brunch\, a relaxed lunch\, or coffee and cake after some shopping\, sharing a meal is the perfect way to spend meaningful time together and say thanks in a way that feels genuine and relaxed. \nMake It a Day Out for the Whole Family\nOne of the biggest advantages of celebrating at MacDonagh Junction is that it caters to the whole family. While you search for the perfect present\, kids can enjoy the lively environment and everyone can soak up the welcoming\, community feel of the centre. \nThe spacious layout and pleasant surroundings encourage you to slow down\, wander\, and make a day of it — turning Father’s Day into more than just a quick shopping trip\, but a shared experience. \nLook Out for Seasonal Events & Extras\nThroughout the year\, MacDonagh Junction is known for hosting seasonal activities and promotions that add an extra touch of excitement to special occasions. Around Father’s Day\, shoppers can often expect themed displays\, special offers\, or in-centre surprises that help create a festive atmosphere and make the day even more enjoyable. \nThese little extras help transform a simple visit into a celebration — the kind that dads genuinely appreciate. \nCelebrate in a Way That Feels Personal\nUltimately\, Father’s Day is about showing appreciation in a way that feels sincere. Start the day with coffee\, browse for a meaningful gift\, enjoy a relaxed meal together\, and finish with a stroll through the centre. Add a handwritten card or a small surprise\, and you’ve created a thoughtful celebration that balances practicality with quality family time. \nThis June\, keep things simple\, enjoyable\, and full of heart by celebrating Father’s Day at MacDonagh Junction — where finding the perfect gift and spending time together is all part of the experience.
URL:https://macdonaghjunction.com/event/fathers-day/
LOCATION:MacDonagh Junction Shopping Centre\, MacDonagh Junction Shopping Centre\, Hebron Road\, Kilkenny\, R95 W8RH\, Ireland
CATEGORIES:Mall Promotions,SALE
ATTACH;FMTTYPE=image/png:https://macdonaghjunction.com/wp-content/uploads/2026/02/Fathers-day-post-.png
END:VEVENT
BEGIN:VEVENT
DTSTART;VALUE=DATE:20260803
DTEND;VALUE=DATE:20260804
DTSTAMP:20260421T235029
CREATED:20260220T125943Z
LAST-MODIFIED:20260220T125943Z
UID:23725-1785715200-1785801599@macdonaghjunction.com
SUMMARY:August Bank Holiday
DESCRIPTION:Notice to Customers:We would like to inform all customers that today is a bank holiday. As a result\, Stres will be operating on Sunday hours\, which means the store will open later than usual.
URL:https://macdonaghjunction.com/event/august-bank-holiday/
LOCATION:MacDonagh Junction Shopping Centre\, MacDonagh Junction Shopping Centre\, Hebron Road\, Kilkenny\, R95 W8RH\, Ireland
CATEGORIES:Bank Holiday
ATTACH;FMTTYPE=image/png:https://macdonaghjunction.com/wp-content/uploads/2026/02/Copy-of-Bank-Holiday-opening-hours-2.png
END:VEVENT
BEGIN:VEVENT
DTSTART;VALUE=DATE:20260927
DTEND;VALUE=DATE:20260928
DTSTAMP:20260421T235029
CREATED:20260220T151303Z
LAST-MODIFIED:20260220T151303Z
UID:23746-1790467200-1790553599@macdonaghjunction.com
SUMMARY:World Tourism Day
DESCRIPTION:🍀 Celebrate World Tourism Day in Kilkenny! 🍀 \nDiscover a unique piece of Irish history at the MacDonagh Junction Famine Tour in Kilkenny. For just €5 per person\, step back in time and explore the stories of the Great Famine and its impact on the region. \n🎉 Special Offer: Free entry on 27th September to mark World Tourism Day! \nDon’t miss this chance to combine culture\, history\, and heritage in one unforgettable experience. Bring your friends and family and celebrate tourism in Kilkenny in a meaningful way. \n📅 When: Anytime\, with free entry on 27th Sept💶 Cost: €5 per person (Free on 27th Sept)📍 Where: MacDonagh Junction\, Kilkenny \n#KilkennyTourism #FamineTour #WorldTourismDay #HeritageIreland #MacDonaghJunction
URL:https://macdonaghjunction.com/event/world-tourism-day/
LOCATION:MacDonagh Junction Shopping Centre\, MacDonagh Junction Shopping Centre\, Hebron Road\, Kilkenny\, R95 W8RH\, Ireland
CATEGORIES:History,Tourism
ATTACH;FMTTYPE=image/webp:https://macdonaghjunction.com/wp-content/uploads/2025/07/Capture-1-1.webp
ORGANIZER;CN="Kilkenny Famine Experience":MAILTO:info@macdonaghjunction.com
END:VEVENT
BEGIN:VEVENT
DTSTART;VALUE=DATE:20261010
DTEND;VALUE=DATE:20261011
DTSTAMP:20260421T235029
CREATED:20260220T151850Z
LAST-MODIFIED:20260220T151941Z
UID:23749-1791590400-1791676799@macdonaghjunction.com
SUMMARY:World Mental Health Day
DESCRIPTION:🌿 World Mental Health Day at MacDonagh Junction Shopping Centre 🌿 \nThis 10th October\, join us at MacDonagh Junction Shopping Centre for a day dedicated to raising awareness about mental health and wellbeing. 💚 \nAt MacDonagh Junction\, we offer a calm and soothing atmosphere throughout the centre and in our cafés—perfect for taking a moment for yourself. Keeping active and maintaining a healthy lifestyle can do wonders for your mental wellbeing\, and our very own Holland & Barrett is the perfect place to find everything you need to stay healthy\, from vitamins to fitness support. \nLet’s break the stigma\, support one another\, and celebrate mental well-being together. Everyone is welcome! 🤝
URL:https://macdonaghjunction.com/event/23749/
LOCATION:MacDonagh Junction Shopping Centre\, MacDonagh Junction Shopping Centre\, Hebron Road\, Kilkenny\, R95 W8RH\, Ireland
CATEGORIES:Mall Promotions
ATTACH;FMTTYPE=image/png:https://macdonaghjunction.com/wp-content/uploads/2026/02/Blue-Basic-World-Mental-Health-Day-Instagram-Post.png
END:VEVENT
BEGIN:VEVENT
DTSTART;VALUE=DATE:20261026
DTEND;VALUE=DATE:20261027
DTSTAMP:20260421T235029
CREATED:20260220T130157Z
LAST-MODIFIED:20260220T130157Z
UID:23728-1792972800-1793059199@macdonaghjunction.com
SUMMARY:October Bank Holiday
DESCRIPTION:Notice to Customers:We would like to inform all customers that today is a bank holiday. As a result\, Stres will be operating on Sunday hours\, which means the store will open later than usual.
URL:https://macdonaghjunction.com/event/october-bank-holiday/
CATEGORIES:Bank Holiday
ATTACH;FMTTYPE=image/png:https://macdonaghjunction.com/wp-content/uploads/2026/02/Copy-of-Bank-Holiday-opening-hours-3.png
END:VEVENT
BEGIN:VEVENT
DTSTART;VALUE=DATE:20261119
DTEND;VALUE=DATE:20261120
DTSTAMP:20260421T235029
CREATED:20260220T152338Z
LAST-MODIFIED:20260220T152338Z
UID:23753-1795046400-1795132799@macdonaghjunction.com
SUMMARY:International Mens Day
DESCRIPTION:💙 International Men’s Day at MacDonagh Junction Shopping Centre 💙 \nThis 19th November\, we’re celebrating International Men’s Day and highlighting the importance of men’s health\, wellbeing\, and positivity. \nCome down to MacDonagh Junction and enjoy: \n\n\nA relaxed\, welcoming atmosphere across the centre and in our cafés \n\n\nTips on staying physically and mentally healthy \n\n\nSpecial offers and products to support wellness and fitness \n\n\nOpportunities to connect and celebrate men in our community \n\n\nLet’s take the time to recognise achievements\, raise awareness of health issues\, and support the men around us. Everyone is welcome to join in the celebration! 🤝 \n📍 Location: MacDonagh Junction Shopping Centre\, Kilkenny\, Ireland🕒 Time: All day on 19th November
URL:https://macdonaghjunction.com/event/international-mens-day/
LOCATION:MacDonagh Junction Shopping Centre\, MacDonagh Junction Shopping Centre\, Hebron Road\, Kilkenny\, R95 W8RH\, Ireland
CATEGORIES:Mall Promotions
ATTACH;FMTTYPE=image/png:https://macdonaghjunction.com/wp-content/uploads/2026/02/Black-and-White-Illustrative-Happy-International-Mens-Day-Instagram-Post.png
ORGANIZER;CN="MacDonagh Junction Shopping Centre":MAILTO:info@macdonaghjunction.com
END:VEVENT
BEGIN:VEVENT
DTSTART;VALUE=DATE:20261225
DTEND;VALUE=DATE:20261226
DTSTAMP:20260421T235029
CREATED:20260220T144207Z
LAST-MODIFIED:20260220T144207Z
UID:23731-1798156800-1798243199@macdonaghjunction.com
SUMMARY:Closed For Christmas Day
DESCRIPTION:From all of us at MacDonagh Junction\, we wish you a very Merry Christmas! \nPlease note that the shopping centre will be closed for the day so everyone can enjoy the celebrations with their loved ones. We look forward to welcoming you back soon. 🎄
URL:https://macdonaghjunction.com/event/closed-for-christmas-day/
LOCATION:MacDonagh Junction Shopping Centre\, MacDonagh Junction Shopping Centre\, Hebron Road\, Kilkenny\, R95 W8RH\, Ireland
CATEGORIES:Christmas
ATTACH;FMTTYPE=image/png:https://macdonaghjunction.com/wp-content/uploads/2026/02/Green-and-Gold-Elegant-Merry-Christmas-and-Happy-New-Year-Greetings-Instagram-Post.png
END:VEVENT
BEGIN:VEVENT
DTSTART;VALUE=DATE:20270101
DTEND;VALUE=DATE:20270102
DTSTAMP:20260421T235029
CREATED:20260220T144556Z
LAST-MODIFIED:20260220T144556Z
UID:23734-1798761600-1798847999@macdonaghjunction.com
SUMMARY:Closed for New Years Day
DESCRIPTION:As we welcome in the New Year\, we would like to remind everyone that MacDonagh Junction will be closed on 1st January 2027 to allow people to ring in the new year with their loved ones. \nThank you for your understanding\, and we wish you all a happy and prosperous New Year! 🎉
URL:https://macdonaghjunction.com/event/closed-for-new-years-day/
LOCATION:MacDonagh Junction Shopping Centre\, MacDonagh Junction Shopping Centre\, Hebron Road\, Kilkenny\, R95 W8RH\, Ireland
CATEGORIES:Bank Holiday,Christmas
ATTACH;FMTTYPE=image/png:https://macdonaghjunction.com/wp-content/uploads/2026/02/Black-Yellow-White-Modern-Happy-New-Year-Poster-Instagram-Post-1.png
END:VEVENT
END:VCALENDAR