BEGIN:VCALENDAR
VERSION:2.0
PRODID:-//MacDonagh Junction - ECPv6.15.20//NONSGML v1.0//EN
CALSCALE:GREGORIAN
METHOD:PUBLISH
X-ORIGINAL-URL:https://macdonaghjunction.com
X-WR-CALDESC:Events for MacDonagh Junction
REFRESH-INTERVAL;VALUE=DURATION:PT1H
X-Robots-Tag:noindex
X-PUBLISHED-TTL:PT1H
BEGIN:VTIMEZONE
TZID:UTC
BEGIN:STANDARD
TZOFFSETFROM:+0000
TZOFFSETTO:+0000
TZNAME:UTC
DTSTART:20230101T000000
END:STANDARD
END:VTIMEZONE
BEGIN:VEVENT
DTSTART;TZID=UTC:20251025T130000
DTEND;TZID=UTC:20251025T160000
DTSTAMP:20260421T143008
CREATED:20250828T093056Z
LAST-MODIFIED:20250828T093209Z
UID:23451-1761397200-1761408000@macdonaghjunction.com
SUMMARY:Young Food Producers Market - Savour Kilkenny
DESCRIPTION:The Young Food Producers Market returns to the Savour Kilkenny Food Festival 2025 on Saturday\, October 25th\, from 1pm–4pm. This exciting showcase gives fresh-thinking young entrepreneurs the chance to present and sell their homemade produce in a lively market setting at the very heart of Kilkenny. \nRun as part of the Student Enterprise Programme and supported by Local Enterprise Office (LEO) Kilkenny\, the Young Food Producers Market is designed to spark creativity\, inspire entrepreneurship\, and provide invaluable hands-on business experience. Participants will not only connect with real customers in a bustling shopping centre environment but will also gain vital skills in product development\, marketing\, and customer engagement. \nTo uphold best practice in food safety\, all participating students will complete a Certificate in Food Hygiene Level 1 before trading begins. This valuable qualification ensures they start their journey into food production and entrepreneurship with confidence\, professionalism\, and a strong foundation in safe food handling. \nApplications are now open! The closing date is Friday\, October 10th\, and spaces are limited. If you’re a student with a passion for food\, creativity\, and business\, this is your opportunity to take your first steps into the food industry while being part of one of Ireland’s most celebrated food festivals. Please follow the link below to apply! \nYOUNG FOOD PRODUCERS MARKET – MacDonagh Junction
URL:https://macdonaghjunction.com/event/young-food-producers-market-savour-kilkenny/
LOCATION:MacDonagh Junction Shopping Centre\, MacDonagh Junction Shopping Centre\, Hebron Road\, Kilkenny\, R95 W8RH\, Ireland
CATEGORIES:Mall Promotions,School Event
ATTACH;FMTTYPE=image/webp:https://macdonaghjunction.com/wp-content/uploads/2025/08/Add-a-heading.webp
END:VEVENT
BEGIN:VEVENT
DTSTART;TZID=UTC:20250425T200000
DTEND;TZID=UTC:20250425T210000
DTSTAMP:20260421T143008
CREATED:20250404T100329Z
LAST-MODIFIED:20250404T100329Z
UID:23168-1745611200-1745614800@macdonaghjunction.com
SUMMARY:Table Quiz Fundraiser
DESCRIPTION:Let’s rally together and show our support! The under-14s Gaynor Cup is just around the corner\, and the girls are counting on us to help them on their journey. Join us for a lively table quiz on Friday\, April 25th\, at 8 PM in the wonderful Stephens Army Barracks in Kilkenny. Gather your friends for an evening of fun and camaraderie—just €20 for a table of four! Let’s make this a night to remember and cheer on our talented team! Your presence can make all the difference!
URL:https://macdonaghjunction.com/event/table-quiz-fundraiser/
LOCATION:Stephens Army Barracks\, Stephens Army Barracks\, kilkenny\, Kilkenny\, R95 D82T\, Ireland
CATEGORIES:School Event
ATTACH;FMTTYPE=image/png:https://macdonaghjunction.com/wp-content/uploads/2025/04/Green-and-White-Modern-Football-Banner-Instagram-Post.png
END:VEVENT
BEGIN:VEVENT
DTSTART;VALUE=DATE:20241121
DTEND;VALUE=DATE:20241124
DTSTAMP:20260421T143008
CREATED:20241115T110420Z
LAST-MODIFIED:20241115T110420Z
UID:22839-1732147200-1732406399@macdonaghjunction.com
SUMMARY:Sister Act presented by Presentation Secondary School
DESCRIPTION:The Presentation Secondary School Kilkenny will be performing a heavenly musical extravaganza\, prepare to be swept away by sister act\, the dazzling musical bursting with laughter\, dance\, and a soundtrack that will have you singing along after the final curtain. Based on the 1992 film\, this feel-good comedy tells the tale of Deloris Van Cartier\, a club singer whose life takes a dramatic turn when she witnesses a mob hit. To protect her\, the police hide her in the most unlikely place – a convent!
URL:https://macdonaghjunction.com/event/sister-act-presented-by-presentation-secondary-school/
LOCATION:Kilkenny
CATEGORIES:School Event
ATTACH;FMTTYPE=image/jpeg:https://macdonaghjunction.com/wp-content/uploads/2024/11/1731668580927-42aa7790-bf43-4bb9-85c4-18920649de1d_1.jpg
END:VEVENT
END:VCALENDAR