BEGIN:VCALENDAR
VERSION:2.0
PRODID:-//MacDonagh Junction - ECPv6.15.20//NONSGML v1.0//EN
CALSCALE:GREGORIAN
METHOD:PUBLISH
X-ORIGINAL-URL:https://macdonaghjunction.com
X-WR-CALDESC:Events for MacDonagh Junction
REFRESH-INTERVAL;VALUE=DURATION:PT1H
X-Robots-Tag:noindex
X-PUBLISHED-TTL:PT1H
BEGIN:VTIMEZONE
TZID:UTC
BEGIN:STANDARD
TZOFFSETFROM:+0000
TZOFFSETTO:+0000
TZNAME:UTC
DTSTART:20250101T000000
END:STANDARD
END:VTIMEZONE
BEGIN:VEVENT
DTSTART;VALUE=DATE:20261010
DTEND;VALUE=DATE:20261011
DTSTAMP:20260421T225528
CREATED:20260220T151850Z
LAST-MODIFIED:20260220T151941Z
UID:23749-1791590400-1791676799@macdonaghjunction.com
SUMMARY:World Mental Health Day
DESCRIPTION:🌿 World Mental Health Day at MacDonagh Junction Shopping Centre 🌿 \nThis 10th October\, join us at MacDonagh Junction Shopping Centre for a day dedicated to raising awareness about mental health and wellbeing. 💚 \nAt MacDonagh Junction\, we offer a calm and soothing atmosphere throughout the centre and in our cafés—perfect for taking a moment for yourself. Keeping active and maintaining a healthy lifestyle can do wonders for your mental wellbeing\, and our very own Holland & Barrett is the perfect place to find everything you need to stay healthy\, from vitamins to fitness support. \nLet’s break the stigma\, support one another\, and celebrate mental well-being together. Everyone is welcome! 🤝
URL:https://macdonaghjunction.com/event/23749/
LOCATION:MacDonagh Junction Shopping Centre\, MacDonagh Junction Shopping Centre\, Hebron Road\, Kilkenny\, R95 W8RH\, Ireland
CATEGORIES:Mall Promotions
ATTACH;FMTTYPE=image/png:https://macdonaghjunction.com/wp-content/uploads/2026/02/Blue-Basic-World-Mental-Health-Day-Instagram-Post.png
END:VEVENT
BEGIN:VEVENT
DTSTART;VALUE=DATE:20261119
DTEND;VALUE=DATE:20261120
DTSTAMP:20260421T225528
CREATED:20260220T152338Z
LAST-MODIFIED:20260220T152338Z
UID:23753-1795046400-1795132799@macdonaghjunction.com
SUMMARY:International Mens Day
DESCRIPTION:💙 International Men’s Day at MacDonagh Junction Shopping Centre 💙 \nThis 19th November\, we’re celebrating International Men’s Day and highlighting the importance of men’s health\, wellbeing\, and positivity. \nCome down to MacDonagh Junction and enjoy: \n\n\nA relaxed\, welcoming atmosphere across the centre and in our cafés \n\n\nTips on staying physically and mentally healthy \n\n\nSpecial offers and products to support wellness and fitness \n\n\nOpportunities to connect and celebrate men in our community \n\n\nLet’s take the time to recognise achievements\, raise awareness of health issues\, and support the men around us. Everyone is welcome to join in the celebration! 🤝 \n📍 Location: MacDonagh Junction Shopping Centre\, Kilkenny\, Ireland🕒 Time: All day on 19th November
URL:https://macdonaghjunction.com/event/international-mens-day/
LOCATION:MacDonagh Junction Shopping Centre\, MacDonagh Junction Shopping Centre\, Hebron Road\, Kilkenny\, R95 W8RH\, Ireland
CATEGORIES:Mall Promotions
ATTACH;FMTTYPE=image/png:https://macdonaghjunction.com/wp-content/uploads/2026/02/Black-and-White-Illustrative-Happy-International-Mens-Day-Instagram-Post.png
ORGANIZER;CN="MacDonagh Junction Shopping Centre":MAILTO:info@macdonaghjunction.com
END:VEVENT
END:VCALENDAR