BEGIN:VCALENDAR
VERSION:2.0
PRODID:-//MacDonagh Junction - ECPv6.15.20//NONSGML v1.0//EN
CALSCALE:GREGORIAN
METHOD:PUBLISH
X-ORIGINAL-URL:https://macdonaghjunction.com
X-WR-CALDESC:Events for MacDonagh Junction
REFRESH-INTERVAL;VALUE=DURATION:PT1H
X-Robots-Tag:noindex
X-PUBLISHED-TTL:PT1H
BEGIN:VTIMEZONE
TZID:UTC
BEGIN:STANDARD
TZOFFSETFROM:+0000
TZOFFSETTO:+0000
TZNAME:UTC
DTSTART:20240101T000000
END:STANDARD
END:VTIMEZONE
BEGIN:VEVENT
DTSTART;TZID=UTC:20250220T130000
DTEND;TZID=UTC:20250220T150000
DTSTAMP:20260421T125723
CREATED:20250217T144054Z
LAST-MODIFIED:20250217T144054Z
UID:22951-1740056400-1740063600@macdonaghjunction.com
SUMMARY:Party Time
DESCRIPTION:Join us for an exciting emergency services event at MacDonagh Junction! Don’t miss the opportunity to meet our local heroes from the Kilkenny Fire Service\, the Civil Defence Force\, the Garda\, and the National Ambulance Service. Plus\, you can meet three of our amazing Pawsome dogs! Bring your family and enjoy FREE face painting for everyone. This is a fantastic chance to connect with your community and celebrate our dedicated responders. We can’t wait to see you there!
URL:https://macdonaghjunction.com/event/party-time/
LOCATION:MacDonagh Junction Shopping Centre\, MacDonagh Junction Shopping Centre\, Hebron Road\, Kilkenny\, R95 W8RH\, Ireland
CATEGORIES:Mall Promotions
ATTACH;FMTTYPE=image/png:https://macdonaghjunction.com/wp-content/uploads/2025/02/Untitled-design.png
END:VEVENT
END:VCALENDAR