BEGIN:VCALENDAR
VERSION:2.0
PRODID:-//MacDonagh Junction - ECPv6.15.20//NONSGML v1.0//EN
CALSCALE:GREGORIAN
METHOD:PUBLISH
X-ORIGINAL-URL:https://macdonaghjunction.com
X-WR-CALDESC:Events for MacDonagh Junction
REFRESH-INTERVAL;VALUE=DURATION:PT1H
X-Robots-Tag:noindex
X-PUBLISHED-TTL:PT1H
BEGIN:VTIMEZONE
TZID:UTC
BEGIN:STANDARD
TZOFFSETFROM:+0000
TZOFFSETTO:+0000
TZNAME:UTC
DTSTART:20230101T000000
END:STANDARD
END:VTIMEZONE
BEGIN:VEVENT
DTSTART;TZID=UTC:20241001T080000
DTEND;TZID=UTC:20241231T170000
DTSTAMP:20260421T192926
CREATED:20241004T162605Z
LAST-MODIFIED:20241004T162605Z
UID:22820-1727769600-1735664400@macdonaghjunction.com
SUMMARY:National Reptile Zoo - Science camp
DESCRIPTION:Step into the captivating world of reptiles at the National Reptile Zoo! Spend three thrilling hours delving into hands-on learning\, interactive experiences\, and fascinating observations every week. Discover the diverse lives of snakes\, lizards\, frogs\, and more while earning badges for your achievements and progress throughout the year. Embrace herpetology as a part of your everyday adventure and unlock the secrets of the reptilian world! \n  \nEvery Wednesday 3-6 pm October – December
URL:https://macdonaghjunction.com/event/national-reptile-zoo-science-camp/
LOCATION:National Reptial zoo\, Hebron Business park\, Hebron Road\, kilkenny\, Ireland
CATEGORIES:Mall Promotions
ATTACH;FMTTYPE=image/png:https://macdonaghjunction.com/wp-content/uploads/2024/10/SC332-0i171205172100.pdf.png
END:VEVENT
BEGIN:VEVENT
DTSTART;TZID=UTC:20241026T080000
DTEND;TZID=UTC:20241026T170000
DTSTAMP:20260421T192926
CREATED:20241004T130816Z
LAST-MODIFIED:20241004T130816Z
UID:22807-1729929600-1729962000@macdonaghjunction.com
SUMMARY:Young Food Producers Market
DESCRIPTION:The Savour Kilkenny Young Producers Market is a unique event where fresh thinking\, young producers create and sell their own homemade produce in a bustling market environment within MacDonagh Junction Shopping Centre.
URL:https://macdonaghjunction.com/event/young-food-producers-market/
LOCATION:Kilkenny
CATEGORIES:Mall Promotions
ATTACH;FMTTYPE=image/jpeg:https://macdonaghjunction.com/wp-content/uploads/2024/10/7F-300x289-1.jpg
END:VEVENT
END:VCALENDAR