BEGIN:VCALENDAR
VERSION:2.0
PRODID:-//MacDonagh Junction - ECPv6.15.20//NONSGML v1.0//EN
CALSCALE:GREGORIAN
METHOD:PUBLISH
X-WR-CALNAME:MacDonagh Junction
X-ORIGINAL-URL:https://macdonaghjunction.com
X-WR-CALDESC:Events for MacDonagh Junction
REFRESH-INTERVAL;VALUE=DURATION:PT1H
X-Robots-Tag:noindex
X-PUBLISHED-TTL:PT1H
BEGIN:VTIMEZONE
TZID:UTC
BEGIN:STANDARD
TZOFFSETFROM:+0000
TZOFFSETTO:+0000
TZNAME:UTC
DTSTART:20240101T000000
END:STANDARD
END:VTIMEZONE
BEGIN:VEVENT
DTSTART;VALUE=DATE:20260315
DTEND;VALUE=DATE:20260316
DTSTAMP:20260421T082329
CREATED:20260220T121759Z
LAST-MODIFIED:20260220T121759Z
UID:23702-1773532800-1773619199@macdonaghjunction.com
SUMMARY:Mothers Day
DESCRIPTION:Celebrate Mother’s Day in Style at MacDonagh Junction (Kilkenny) This March\nMother’s Day is one of those moments in the calendar that invites us to slow down\, show appreciation\, and treat the most important woman in our lives to something truly special. This year\, why not make the occasion unforgettable by spending the day at MacDonagh Junction Shopping Centre in Kilkenny — a vibrant hub of shopping\, dining\, and family‑friendly activities that offers something for everyone? \nA One‑Stop Destination for Gifts & Surprises\nWhether your Mum loves fashion\, beauty\, homewares\, or just a relaxing pamper session\, MacDonagh Junction’s diverse mix of retailers makes finding the perfect gift easy and enjoyable. From internationally loved brands to local boutiques\, you’ll find options that suit every taste and budget — from elegant accessories and chic clothing to thoughtful home and lifestyle pieces. \nStrolling the mall with a coffee in hand while browsing for that special something turns shopping into an experience\, not a task. \nTreat Her to Something Delicious\nA day of shopping naturally works up an appetite\, and the centre’s restaurants and cafés are ideal spots to sit down together and share meaningful conversation over great food. Whether you’re after a leisurely brunch\, a well‑deserved lunch or a sweet treat with coffee\, there are plenty of eateries within MacDonagh Junction where you can toast to Mum — from contemporary casual dining to cosy cafés nestled around Workhouse Square. \nEnjoy the Atmosphere & Family Time\nBeyond retail and dining\, MacDonagh Junction is more than “just a shopping centre” — it’s a community space with character. Its Workhouse Square event area often hosts seasonal happenings and entertainment throughout the year\, and while specific Mother’s Day programming hasn’t been universally confirmed\, the atmosphere itself is perfect for a relaxed\, joyful day out with family. \nThink of it as an opportunity to turn errands into memories: browse\, laugh\, eat\, explore — all under one roof. Should the centre announce any special Mother’s Day activities (like live music\, family crafts\, or complimentary gift wrapping)\, these would make the day even more memorable. \nMake It Personal\nMother’s Day is ultimately about connection. Arrive with a plan but let the day unfold naturally: perhaps start with a coffee and homemade treat\, move on to browsing for that special gift\, enjoy a relaxed lunch together\, and finish with a little wander around the centre’s relaxed spaces. Add a handwritten card and a few kind words\, and you’ve created a celebration that’s personal\, thoughtful\, and unforgettable.
URL:https://macdonaghjunction.com/event/mothers-day/
LOCATION:MacDonagh Junction Shopping Centre\, MacDonagh Junction Shopping Centre\, Hebron Road\, Kilkenny\, R95 W8RH\, Ireland
CATEGORIES:Age Friendly,Ladies Day
ATTACH;FMTTYPE=image/png:https://macdonaghjunction.com/wp-content/uploads/2026/02/Mothers-Day-Gift-Card-square.png
END:VEVENT
BEGIN:VEVENT
DTSTART;VALUE=DATE:20260308
DTEND;VALUE=DATE:20260309
DTSTAMP:20260421T082329
CREATED:20260220T145415Z
LAST-MODIFIED:20260220T145415Z
UID:23740-1772928000-1773014399@macdonaghjunction.com
SUMMARY:International Womens Day
DESCRIPTION:Celebrate International Women’s Day at MacDonagh Junction Shopping Centre This March\nInternational Women’s Day is a moment to honour the achievements\, strength\, and impact of women in our lives and communities. This March\, mark the occasion with a meaningful visit to MacDonagh Junction Shopping Centre in Kilkenny — a welcoming space where shopping\, connection\, and celebration come together in a vibrant and uplifting atmosphere. \nCelebrate the Women Who Inspire You\nInternational Women’s Day is all about recognition and appreciation. Whether you’re celebrating a mother\, sister\, friend\, colleague\, or mentor\, MacDonagh Junction offers countless ways to make the day feel special. From thoughtful gifts to shared experiences\, the centre provides the perfect backdrop for celebrating the women who inspire you every day. \nTake the time to browse together\, chat over coffee\, and enjoy the simple pleasure of spending quality time in a relaxed\, friendly setting. \nThoughtful Gifts to Show Appreciation\nFinding a meaningful gift is a lovely way to mark the occasion\, and MacDonagh Junction’s diverse mix of stores makes it easy to choose something personal. From stylish fashion pieces and beauty treats to homeware and lifestyle gifts\, there’s something to suit every taste and personality. \nA small token — paired with a heartfelt message — can go a long way in showing appreciation and recognition on this important day. \nEnjoy Food\, Coffee & Connection\nCelebration often centres around sharing a meal or enjoying a coffee together\, and the cafés and restaurants at MacDonagh Junction provide the perfect places to pause and connect. Whether it’s brunch with friends\, lunch with colleagues\, or a relaxed catch-up over coffee\, the centre’s dining options offer a warm and welcoming environment to celebrate and reflect. \nThese moments of conversation and connection are what truly bring the spirit of International Women’s Day to life. \nA Space That Supports Community\nMacDonagh Junction is more than a retail destination — it’s a community hub where people gather for events\, experiences\, and shared moments throughout the year. International Women’s Day is a natural fit for this vibrant setting\, where themes of empowerment\, inclusion\, and celebration can be embraced in a lively and supportive atmosphere. \nSeasonal displays\, themed promotions\, or in-centre activities often add an extra layer of excitement\, encouraging visitors to pause\, engage\, and celebrate the day together. \nMark the Day in a Meaningful Way\nInternational Women’s Day is not just about gifts; it’s about appreciation\, empowerment\, and connection. Begin the day with a coffee\, explore the centre’s shops for something thoughtful\, enjoy a relaxed meal\, and finish with time spent simply enjoying each other’s company. \nThis March\, celebrate the remarkable women in your life at MacDonagh Junction Shopping Centre — a place where meaningful moments\, thoughtful gestures\, and shared experiences come together to honour the spirit of International Women’s Day.
URL:https://macdonaghjunction.com/event/international-womens-day/
LOCATION:MacDonagh Junction Shopping Centre\, MacDonagh Junction Shopping Centre\, Hebron Road\, Kilkenny\, R95 W8RH\, Ireland
CATEGORIES:Ladies Day,Mall Promotions
ATTACH;FMTTYPE=image/png:https://macdonaghjunction.com/wp-content/uploads/2026/02/International-womens-day-Instagram-.png
END:VEVENT
BEGIN:VEVENT
DTSTART;VALUE=DATE:20250726
DTEND;VALUE=DATE:20250727
DTSTAMP:20260421T082329
CREATED:20250329T165441Z
LAST-MODIFIED:20250405T151534Z
UID:23025-1753488000-1753574399@macdonaghjunction.com
SUMMARY:Ladies Day
DESCRIPTION:We are thrilled to announce that MacDonagh Junction will once again join forces with The Lyrath Estate to co-sponsor this year’s enchanting Ladies Day event at the stunning Gowran Park. \nThis occasion is the crown jewel of our social calendar—a day where elegance meets excitement. It’s the perfect opportunity to don your finest attire and indulge in a delightful outing. Plus\, you won’t want to miss the chance to win a fabulous prize for the best-dressed lady\, along with enticing rewards for three deserving runners-up. Join us for a truly unforgettable experience! \nView our gallery from last year for some Fashion inspiration. \n\n			\n				\n			\n			\n				\n			\n			\n				\n			\n			\n				\n			\n			\n				\n			\n			\n				\n			\n			\n				\n			\n			\n				\n			\n			\n				\n			\n			\n				\n			\n			\n				\n			\n			\n				\n			\n			\n				\n			\n		\n\n  \n  \nTickets will be released soon and will be available at www.gowranpark.ie \n 
URL:https://macdonaghjunction.com/event/ladies-day/
LOCATION:Kilkenny
CATEGORIES:Ladies Day
ATTACH;FMTTYPE=image/png:https://macdonaghjunction.com/wp-content/uploads/2025/03/Ladies-Day-2024-Instagram-Post.png
END:VEVENT
END:VCALENDAR