BEGIN:VCALENDAR
VERSION:2.0
PRODID:-//MacDonagh Junction - ECPv6.15.20//NONSGML v1.0//EN
CALSCALE:GREGORIAN
METHOD:PUBLISH
X-WR-CALNAME:MacDonagh Junction
X-ORIGINAL-URL:https://macdonaghjunction.com
X-WR-CALDESC:Events for MacDonagh Junction
REFRESH-INTERVAL;VALUE=DURATION:PT1H
X-Robots-Tag:noindex
X-PUBLISHED-TTL:PT1H
BEGIN:VTIMEZONE
TZID:UTC
BEGIN:STANDARD
TZOFFSETFROM:+0000
TZOFFSETTO:+0000
TZNAME:UTC
DTSTART:20240101T000000
END:STANDARD
END:VTIMEZONE
BEGIN:VEVENT
DTSTART;TZID=UTC:20250419T080000
DTEND;TZID=UTC:20250419T170000
DTSTAMP:20260421T210857
CREATED:20250410T101837Z
LAST-MODIFIED:20250419T102846Z
UID:23180-1745049600-1745082000@macdonaghjunction.com
SUMMARY:Easter Bunny Meet and Greets
DESCRIPTION:NOW SOLD OUT! \n  \nGet ready for a delightful experience this Easter with our cheeky Easter Bunny! Prepare for some playful antics\, as he loves to keep things fun. This is a special pre-booked event\, and tickets are available for free on Eventbrite\, but don’t wait! Secure your spots now\, as the Bunny will only be hopping in during select times. Don’t miss your chance to have this unforgettable encounter!
URL:https://macdonaghjunction.com/event/easter-bunny-meet-and-greets/
LOCATION:Behind the customer service desk\, Macdonagh junction\, Kilkenny\, Co. Kilkenny\, R95W8RH\, Ireland
CATEGORIES:Easter
ATTACH;FMTTYPE=image/png:https://macdonaghjunction.com/wp-content/uploads/2025/04/colorful-happy-easter-Instagram-Post-1.png
END:VEVENT
BEGIN:VEVENT
DTSTART;TZID=UTC:20250419T080000
DTEND;TZID=UTC:20250419T170000
DTSTAMP:20260421T210857
CREATED:20250419T103813Z
LAST-MODIFIED:20250419T103813Z
UID:23184-1745049600-1745082000@macdonaghjunction.com
SUMMARY:Hopping Easter
DESCRIPTION:Celebrate Easter with us at MacDonagh Junction Shopping Centre! \nEnjoy vibrant face painting\, indulge in delicious treats at our incredible bake sale\, and don’t miss your chance to meet the Easter Bunny\, who will be hosting an exciting egg hunt. Bring your family and friends for a day of festive fun!
URL:https://macdonaghjunction.com/event/hopping-easter/
LOCATION:MacDonagh Junction Shopping Centre\, MacDonagh Junction Shopping Centre\, Hebron Road\, Kilkenny\, R95 W8RH\, Ireland
CATEGORIES:Easter
ATTACH;FMTTYPE=image/png:https://macdonaghjunction.com/wp-content/uploads/2025/04/Brown-Colorful-Special-Easter-Sale-Instagram-Post-1.png
END:VEVENT
BEGIN:VEVENT
DTSTART;TZID=UTC:20250419T080000
DTEND;TZID=UTC:20250419T170000
DTSTAMP:20260421T210857
CREATED:20250419T105314Z
LAST-MODIFIED:20250419T105314Z
UID:23187-1745049600-1745082000@macdonaghjunction.com
SUMMARY:The grate bake
DESCRIPTION:Bea (10)\, Grace (11)\, Kate (11) & Laura (8) are hosting a bake sale at McDonagh Junction Shopping Centre in Kilkenny this Easter Saturday as part of the Great Irish Bake for Children’s Health Foundation. \n  \nSupport Kids baking for kids this Easter on iDonate.ie
URL:https://macdonaghjunction.com/event/the-grate-bake/
LOCATION:Kilkenny
CATEGORIES:Easter
ATTACH;FMTTYPE=image/png:https://macdonaghjunction.com/wp-content/uploads/2025/04/Pink-Cupcake-Bake-Sale-Flyer-Instagram-Post.png
END:VEVENT
END:VCALENDAR