BEGIN:VCALENDAR
VERSION:2.0
PRODID:-//MacDonagh Junction - ECPv6.15.20//NONSGML v1.0//EN
CALSCALE:GREGORIAN
METHOD:PUBLISH
X-WR-CALNAME:MacDonagh Junction
X-ORIGINAL-URL:https://macdonaghjunction.com
X-WR-CALDESC:Events for MacDonagh Junction
REFRESH-INTERVAL;VALUE=DURATION:PT1H
X-Robots-Tag:noindex
X-PUBLISHED-TTL:PT1H
BEGIN:VTIMEZONE
TZID:UTC
BEGIN:STANDARD
TZOFFSETFROM:+0000
TZOFFSETTO:+0000
TZNAME:UTC
DTSTART:20230101T000000
END:STANDARD
END:VTIMEZONE
BEGIN:VEVENT
DTSTART;TZID=UTC:20241002T080000
DTEND;TZID=UTC:20241002T130000
DTSTAMP:20260421T095953
CREATED:20240816T162906Z
LAST-MODIFIED:20240816T162906Z
UID:22663-1727856000-1727874000@macdonaghjunction.com
SUMMARY:Age Friendly Shopping
DESCRIPTION:Embrace the tranquility of our age-friendly shopping experience. Join us every Wednesday morning for exclusive discounts in select stores\, available to anyone over 60 with our over 60s card. Relax to the soothing melodies of classical music as you shop.
URL:https://macdonaghjunction.com/event/age-friendly-shopping-7/
CATEGORIES:Age Friendly
ATTACH;FMTTYPE=image/jpeg:https://macdonaghjunction.com/wp-content/uploads/2024/05/age-friendly-poster.jpg
END:VEVENT
BEGIN:VEVENT
DTSTART;TZID=UTC:20240925T080000
DTEND;TZID=UTC:20240925T130000
DTSTAMP:20260421T095953
CREATED:20240816T162747Z
LAST-MODIFIED:20240816T162747Z
UID:22661-1727251200-1727269200@macdonaghjunction.com
SUMMARY:Age Friendly Shopping
DESCRIPTION:Embrace the tranquility of our age-friendly shopping experience. Join us every Wednesday morning for exclusive discounts in select stores\, available to anyone over 60 with our over 60s card. Relax to the soothing melodies of classical music as you shop.
URL:https://macdonaghjunction.com/event/age-friendly-shopping-6/
CATEGORIES:Age Friendly
ATTACH;FMTTYPE=image/jpeg:https://macdonaghjunction.com/wp-content/uploads/2024/05/age-friendly-poster.jpg
END:VEVENT
BEGIN:VEVENT
DTSTART;TZID=UTC:20240918T080000
DTEND;TZID=UTC:20240918T130000
DTSTAMP:20260421T095953
CREATED:20240816T162620Z
LAST-MODIFIED:20240816T162620Z
UID:22659-1726646400-1726664400@macdonaghjunction.com
SUMMARY:Age Friendly Shopping
DESCRIPTION:Embrace the tranquility of our age-friendly shopping experience. Join us every Wednesday morning for exclusive discounts in select stores\, available to anyone over 60 with our over 60s card. Relax to the soothing melodies of classical music as you shop.
URL:https://macdonaghjunction.com/event/age-friendly-shopping-5/
CATEGORIES:Age Friendly
ATTACH;FMTTYPE=image/jpeg:https://macdonaghjunction.com/wp-content/uploads/2024/05/age-friendly-poster.jpg
END:VEVENT
BEGIN:VEVENT
DTSTART;TZID=UTC:20240911T080000
DTEND;TZID=UTC:20240911T130000
DTSTAMP:20260421T095953
CREATED:20240816T162441Z
LAST-MODIFIED:20240816T162441Z
UID:22657-1726041600-1726059600@macdonaghjunction.com
SUMMARY:Age Friendly Shopping
DESCRIPTION:Embrace the tranquility of our age-friendly shopping experience. Join us every Wednesday morning for exclusive discounts in select stores\, available to anyone over 60 with our over 60s card. Relax to the soothing melodies of classical music as you shop.
URL:https://macdonaghjunction.com/event/age-friendly-shopping-4/
CATEGORIES:Age Friendly
ATTACH;FMTTYPE=image/jpeg:https://macdonaghjunction.com/wp-content/uploads/2024/05/age-friendly-poster.jpg
END:VEVENT
BEGIN:VEVENT
DTSTART;TZID=UTC:20240904T080000
DTEND;TZID=UTC:20240904T130000
DTSTAMP:20260421T095953
CREATED:20240816T162149Z
LAST-MODIFIED:20240816T162201Z
UID:22655-1725436800-1725454800@macdonaghjunction.com
SUMMARY:Age Friendly Shopping
DESCRIPTION:Embrace the tranquility of our age-friendly shopping experience. Join us every Wednesday morning for exclusive discounts in select stores\, available to anyone over 60 with our over 60s card. Relax to thEmbrace the tranquility of our age-friendly shopping experience. Join us every Wednesday morning for exclusive discounts in select stores\, available to anyone over 60 with our over 60s card. Relax to the soothing melodies of classical music as you shop.e soothing melodies of classical music as you shop.
URL:https://macdonaghjunction.com/event/age-friendly-shopping-3/
CATEGORIES:Age Friendly
ATTACH;FMTTYPE=image/jpeg:https://macdonaghjunction.com/wp-content/uploads/2024/05/age-friendly-poster.jpg
END:VEVENT
BEGIN:VEVENT
DTSTART;TZID=UTC:20240828T080000
DTEND;TZID=UTC:20240828T130000
DTSTAMP:20260421T095953
CREATED:20240816T162037Z
LAST-MODIFIED:20240816T162325Z
UID:22653-1724832000-1724850000@macdonaghjunction.com
SUMMARY:Age Friendly Shopping
DESCRIPTION:Embrace the tranquility of our age-friendly shopping experience. Join us every Wednesday morning for exclusive discounts in select stores\, available to anyone over 60 with our over 60s card. Relax to the soothing melodies of classical music as you shop.
URL:https://macdonaghjunction.com/event/age-friendly-shopping-2/
CATEGORIES:Age Friendly
ATTACH;FMTTYPE=image/jpeg:https://macdonaghjunction.com/wp-content/uploads/2024/05/age-friendly-poster.jpg
END:VEVENT
BEGIN:VEVENT
DTSTART;TZID=UTC:20240821T080000
DTEND;TZID=UTC:20240821T130000
DTSTAMP:20260421T095953
CREATED:20240816T161925Z
LAST-MODIFIED:20240816T161925Z
UID:22651-1724227200-1724245200@macdonaghjunction.com
SUMMARY:Age Friendly Shopping
DESCRIPTION:Embrace the tranquility of our age-friendly shopping experience. Join us every Wednesday morning for exclusive discounts in select stores\, available to anyone over 60 with our over 60s card. Relax to the soothing melodies of classical music as you shop.
URL:https://macdonaghjunction.com/event/age-friendly-shopping/
CATEGORIES:Age Friendly
ATTACH;FMTTYPE=image/jpeg:https://macdonaghjunction.com/wp-content/uploads/2024/05/age-friendly-poster.jpg
END:VEVENT
END:VCALENDAR