BEGIN:VCALENDAR
VERSION:2.0
PRODID:-//MacDonagh Junction - ECPv6.15.20//NONSGML v1.0//EN
CALSCALE:GREGORIAN
METHOD:PUBLISH
X-WR-CALNAME:MacDonagh Junction
X-ORIGINAL-URL:https://macdonaghjunction.com
X-WR-CALDESC:Events for MacDonagh Junction
REFRESH-INTERVAL;VALUE=DURATION:PT1H
X-Robots-Tag:noindex
X-PUBLISHED-TTL:PT1H
BEGIN:VTIMEZONE
TZID:UTC
BEGIN:STANDARD
TZOFFSETFROM:+0000
TZOFFSETTO:+0000
TZNAME:UTC
DTSTART:20230101T000000
END:STANDARD
END:VTIMEZONE
BEGIN:VEVENT
DTSTART;TZID=UTC:20240829T080000
DTEND;TZID=UTC:20240915T170000
DTSTAMP:20260421T111631
CREATED:20240829T150209Z
LAST-MODIFIED:20240829T150209Z
UID:22760-1724918400-1726419600@macdonaghjunction.com
SUMMARY:Shop For Giggles
DESCRIPTION:Hey there! Do you have a One4All gift card? If you do\, then don’t miss out on participating in Shop for Giggles at Lifestyle Sports! Every time you use your gift card in participating stores\, One4All will generously donate 50 cents. Let’s make a difference together!
URL:https://macdonaghjunction.com/event/shop-for-giggles/
LOCATION:Kilkenny
CATEGORIES:SALE
ATTACH;FMTTYPE=image/png:https://macdonaghjunction.com/wp-content/uploads/2024/08/Pink-and-Brown-Minimal-20-Off-Instagram-Post-1.png
END:VEVENT
BEGIN:VEVENT
DTSTART;TZID=UTC:20240910T080000
DTEND;TZID=UTC:20240910T110000
DTSTAMP:20260421T111631
CREATED:20240816T161236Z
LAST-MODIFIED:20240816T161236Z
UID:22643-1725955200-1725966000@macdonaghjunction.com
SUMMARY:Autism Friendly Shopping Hours
DESCRIPTION:Come and join us every Tuesday morning from 9 AM to 11 AM for our autism-friendly shopping hours. We are dedicated to creating a comfortable and welcoming environment for individuals with autism by regulating and reducing sensory stimulation. \nExperience our: \n1. Reduced noise \n2. Diminished lighting \n3. Priority seating \n4. Ear defenders
URL:https://macdonaghjunction.com/event/autism-friendly-shopping-hours-4/
LOCATION:Kilkenny
CATEGORIES:Autism hours
ATTACH;FMTTYPE=image/png:https://macdonaghjunction.com/wp-content/uploads/2024/08/Four-Panel-Pasta-Guide-A4-Flyer-Instagram-Post.png
END:VEVENT
END:VCALENDAR