BEGIN:VCALENDAR
VERSION:2.0
PRODID:-//MacDonagh Junction - ECPv6.15.20//NONSGML v1.0//EN
CALSCALE:GREGORIAN
METHOD:PUBLISH
X-WR-CALNAME:MacDonagh Junction
X-ORIGINAL-URL:https://macdonaghjunction.com
X-WR-CALDESC:Events for MacDonagh Junction
REFRESH-INTERVAL;VALUE=DURATION:PT1H
X-Robots-Tag:noindex
X-PUBLISHED-TTL:PT1H
BEGIN:VTIMEZONE
TZID:UTC
BEGIN:STANDARD
TZOFFSETFROM:+0000
TZOFFSETTO:+0000
TZNAME:UTC
DTSTART:20230101T000000
END:STANDARD
END:VTIMEZONE
BEGIN:VEVENT
DTSTART;VALUE=DATE:20240822
DTEND;VALUE=DATE:20240830
DTSTAMP:20260421T111110
CREATED:20240822T161326Z
LAST-MODIFIED:20240822T161326Z
UID:22740-1724284800-1724975999@macdonaghjunction.com
SUMMARY:Claire's Ultimate Sale
DESCRIPTION:Get ready to rock September with Claire’s! From glitter sprays and gems to funky hair extensions\, they’ve got everything you need for the concert season. Treat yourself to some flashy bling and a matching phone case\, or dive into the spooky vibe early with their Tim Burton goodies! Now is the perfect time to shop because they are currently offering an amazing deal: ANY 3 ITEMS FOR JUST €10. Don’t miss out on this incredible offer!
URL:https://macdonaghjunction.com/event/claires-ultimate-sale/
LOCATION:Claire’s\, MacDonagh Junction Shopping Centre\, Hebron Road\, Kilkenny\, Kilkenny\, Ireland
CATEGORIES:SALE
ATTACH;FMTTYPE=image/png:https://macdonaghjunction.com/wp-content/uploads/2024/08/Pink-Flash-Sale-Illustration-Instagram-Post.png
END:VEVENT
BEGIN:VEVENT
DTSTART;TZID=UTC:20240827T080000
DTEND;TZID=UTC:20240827T110000
DTSTAMP:20260421T111110
CREATED:20240816T160950Z
LAST-MODIFIED:20240816T160950Z
UID:22639-1724745600-1724756400@macdonaghjunction.com
SUMMARY:Autism Friendly Shopping Hours
DESCRIPTION:Come and join us every Tuesday morning from 9 AM to 11 AM for our autism-friendly shopping hours. We are dedicated to creating a comfortable and welcoming environment for individuals with autism by regulating and reducing sensory stimulation. \nExperience our: \n1. Reduced noise \n2. Diminished lighting \n3. Priority seating \n4. Ear defenders
URL:https://macdonaghjunction.com/event/autism-friendly-shopping-hours-2/
LOCATION:Kilkenny
CATEGORIES:Autism hours
ATTACH;FMTTYPE=image/png:https://macdonaghjunction.com/wp-content/uploads/2024/08/Four-Panel-Pasta-Guide-A4-Flyer-Instagram-Post.png
END:VEVENT
END:VCALENDAR