BEGIN:VCALENDAR
VERSION:2.0
PRODID:-//MacDonagh Junction - ECPv6.15.20//NONSGML v1.0//EN
CALSCALE:GREGORIAN
METHOD:PUBLISH
X-ORIGINAL-URL:https://macdonaghjunction.com
X-WR-CALDESC:Events for MacDonagh Junction
REFRESH-INTERVAL;VALUE=DURATION:PT1H
X-Robots-Tag:noindex
X-PUBLISHED-TTL:PT1H
BEGIN:VTIMEZONE
TZID:UTC
BEGIN:STANDARD
TZOFFSETFROM:+0000
TZOFFSETTO:+0000
TZNAME:UTC
DTSTART:20230101T000000
END:STANDARD
END:VTIMEZONE
BEGIN:VEVENT
DTSTART;TZID=UTC:20240820T080000
DTEND;TZID=UTC:20240820T110000
DTSTAMP:20260421T123851
CREATED:20240816T160146Z
LAST-MODIFIED:20240816T160458Z
UID:22635-1724140800-1724151600@macdonaghjunction.com
SUMMARY:Autism Friendly Shopping Hours
DESCRIPTION:Come and join us every Tuesday morning from 9 AM to 11 AM for our autism-friendly shopping hours. We are dedicated to creating a comfortable and welcoming environment for individuals with autism by regulating and reducing sensory stimulation. \nExperience our: \n1. Reduced noise \n2. Diminished lighting \n3. Priority seating \n4. Ear defenders
URL:https://macdonaghjunction.com/event/autism-friendly-shopping-hours/
LOCATION:Kilkenny
ATTACH;FMTTYPE=image/png:https://macdonaghjunction.com/wp-content/uploads/2024/08/Four-Panel-Pasta-Guide-A4-Flyer-Instagram-Post.png
END:VEVENT
END:VCALENDAR